BEGIN:VCALENDAR
VERSION:2.0
PRODID:-//Fundaland - ECPv6.15.12//NONSGML v1.0//EN
CALSCALE:GREGORIAN
METHOD:PUBLISH
X-WR-CALNAME:Fundaland
X-ORIGINAL-URL:https://fundaland.es
X-WR-CALDESC:Eventos para Fundaland
REFRESH-INTERVAL;VALUE=DURATION:PT1H
X-Robots-Tag:noindex
X-PUBLISHED-TTL:PT1H
BEGIN:VTIMEZONE
TZID:Europe/Madrid
BEGIN:DAYLIGHT
TZOFFSETFROM:+0100
TZOFFSETTO:+0200
TZNAME:CEST
DTSTART:20180325T010000
END:DAYLIGHT
BEGIN:STANDARD
TZOFFSETFROM:+0200
TZOFFSETTO:+0100
TZNAME:CET
DTSTART:20181028T010000
END:STANDARD
BEGIN:DAYLIGHT
TZOFFSETFROM:+0100
TZOFFSETTO:+0200
TZNAME:CEST
DTSTART:20190331T010000
END:DAYLIGHT
BEGIN:STANDARD
TZOFFSETFROM:+0200
TZOFFSETTO:+0100
TZNAME:CET
DTSTART:20191027T010000
END:STANDARD
BEGIN:DAYLIGHT
TZOFFSETFROM:+0100
TZOFFSETTO:+0200
TZNAME:CEST
DTSTART:20200329T010000
END:DAYLIGHT
BEGIN:STANDARD
TZOFFSETFROM:+0200
TZOFFSETTO:+0100
TZNAME:CET
DTSTART:20201025T010000
END:STANDARD
END:VTIMEZONE
BEGIN:VEVENT
DTSTART;VALUE=DATE:20190222
DTEND;VALUE=DATE:20190223
DTSTAMP:20260421T142411
CREATED:20190219T115110Z
LAST-MODIFIED:20190219T115110Z
UID:5377-1550793600-1550879999@fundaland.es
SUMMARY:Última día inscripción Días Sin Cole
DESCRIPTION:¡Hoy finaliza el plazo de inscripción para los Días Sin Cole del 1 y 4 de marzo! \nInscríbete pinchando aquí
URL:https://fundaland.es/evento/ultima-dia-inscripcion-dias-sin-cole/
END:VEVENT
BEGIN:VEVENT
DTSTART;TZID=Europe/Madrid:20190224T000000
DTEND;TZID=Europe/Madrid:20190224T130000
DTSTAMP:20260421T142411
CREATED:20181228T133800Z
LAST-MODIFIED:20181228T133800Z
UID:5317-1550966400-1551013200@fundaland.es
SUMMARY:LOS DOMINGOS DE TEATRO
DESCRIPTION:SÚPER GUIÑOL \n“Pepo y Pipo” Pepo y Pipo vienen de planetas diferentes y tienen costumbres diferentes\, les cuesta entenderse y al principio se enfadan un poco\, pero con tiempo y cariño van descubriendo cosas del otro que no conocían\, ¡y se lo pasan genial!
URL:https://fundaland.es/evento/los-domingos-de-teatro-15/
END:VEVENT
BEGIN:VEVENT
DTSTART;TZID=Europe/Madrid:20190224T110000
DTEND;TZID=Europe/Madrid:20190224T150000
DTSTAMP:20260421T142411
CREATED:20181228T123903Z
LAST-MODIFIED:20181228T123903Z
UID:5301-1551006000-1551020400@fundaland.es
SUMMARY:ACTIVIDADES ABIERTAS
DESCRIPTION:Camas elásticas\, arco\, escalada\, diver jumper…
URL:https://fundaland.es/evento/actividades-abiertas-45/
END:VEVENT
BEGIN:VEVENT
DTSTART;TZID=Europe/Madrid:20190301T083000
DTEND;TZID=Europe/Madrid:20190301T170000
DTSTAMP:20260421T142411
CREATED:20190122T172332Z
LAST-MODIFIED:20190122T172332Z
UID:5343-1551429000-1551459600@fundaland.es
SUMMARY:DÍA SIN COLE " Conociendo a Kandinsky"
DESCRIPTION:UN DÍA TEMÁTICO DIRIGIDO POR MONITORES EN EL QUE PARTICIPARÁN EN: \n\n1 Sesión infantil de información sobre el valor de la diversidad y visita a los talleres de la Fundación A LA PAR. \nActividades deportivas: tenis y pádel\, escalada\, tiro con arco\, fútbol\, baloncesto… \nTalleres: cocina\, manualidades\, huerto escuela… \nActividades específicas relacionadas con la temática de cada día. \nUna comida muy especial. \n \n 
URL:https://fundaland.es/evento/dia-sin-cole-conociendo-a-kandinsky/
END:VEVENT
BEGIN:VEVENT
DTSTART;TZID=Europe/Madrid:20190303T110000
DTEND;TZID=Europe/Madrid:20190303T150000
DTSTAMP:20260421T142411
CREATED:20181228T135416Z
LAST-MODIFIED:20181228T135416Z
UID:5329-1551610800-1551625200@fundaland.es
SUMMARY:ACTIVIDADES ABIERTAS
DESCRIPTION:Camas elásticas\, arco\, escalada\, diver jumper…
URL:https://fundaland.es/evento/actividades-abiertas-47/
END:VEVENT
BEGIN:VEVENT
DTSTART;TZID=Europe/Madrid:20190303T120000
DTEND;TZID=Europe/Madrid:20190303T130000
DTSTAMP:20260421T142411
CREATED:20181228T134014Z
LAST-MODIFIED:20181228T134014Z
UID:5319-1551614400-1551618000@fundaland.es
SUMMARY:LOS DOMINGOS DE TEATRO
DESCRIPTION:MUSICANDO \n¡Música y juegos en familia!
URL:https://fundaland.es/evento/los-domingos-de-teatro-16/
END:VEVENT
BEGIN:VEVENT
DTSTART;TZID=Europe/Madrid:20190304T083000
DTEND;TZID=Europe/Madrid:20190304T170000
DTSTAMP:20260421T142411
CREATED:20190122T172433Z
LAST-MODIFIED:20190122T172433Z
UID:5345-1551688200-1551718800@fundaland.es
SUMMARY:DÍA SIN COLE "Earth Day"
DESCRIPTION:UN DÍA TEMÁTICO DIRIGIDO POR MONITORES EN EL QUE PARTICIPARÁN EN: \n\n1 Sesión infantil de información sobre el valor de la diversidad y visita a los talleres de la Fundación A LA PAR. \nActividades deportivas: tenis y pádel\, escalada\, tiro con arco\, fútbol\, baloncesto… \nTalleres: cocina\, manualidades\, huerto escuela… \nActividades específicas relacionadas con la temática de cada día. \nUna comida muy especial.
URL:https://fundaland.es/evento/dia-sin-cole-earth-day/
END:VEVENT
BEGIN:VEVENT
DTSTART;TZID=Europe/Madrid:20190310T110000
DTEND;TZID=Europe/Madrid:20190310T150000
DTSTAMP:20260421T142411
CREATED:20181228T135456Z
LAST-MODIFIED:20181228T135456Z
UID:5331-1552215600-1552230000@fundaland.es
SUMMARY:ACTIVIDADES ABIERTAS
DESCRIPTION:Camas elásticas\, arco\, escalada\, diver jumper…
URL:https://fundaland.es/evento/actividades-abiertas-48/
END:VEVENT
BEGIN:VEVENT
DTSTART;TZID=Europe/Madrid:20190310T120000
DTEND;TZID=Europe/Madrid:20190310T130000
DTSTAMP:20260421T142411
CREATED:20181228T134646Z
LAST-MODIFIED:20181228T134646Z
UID:5321-1552219200-1552222800@fundaland.es
SUMMARY:LOS DOMINGOS DE TEATRO
DESCRIPTION:STORYTELLING \n«George\, the turtle» Un cuento en inglés\, acompañado de música y juegos \n 
URL:https://fundaland.es/evento/los-domingos-de-teatro-17/
END:VEVENT
BEGIN:VEVENT
DTSTART;TZID=Europe/Madrid:20190316T120000
DTEND;TZID=Europe/Madrid:20190316T130000
DTSTAMP:20260421T142411
CREATED:20190227T084400Z
LAST-MODIFIED:20190227T084400Z
UID:5383-1552737600-1552741200@fundaland.es
SUMMARY:YOGA EN FAMILIA
DESCRIPTION:Una actividad dirigida a adultos junto con niños\, para afianzar los vínculos familiares\, compartir un espacio de diversión\, desarrollar el talento y la calma interior. ¡Los beneficios son muchos! \nA partir de 4 años.
URL:https://fundaland.es/evento/yoga-en-familia-2/
END:VEVENT
BEGIN:VEVENT
DTSTART;TZID=Europe/Madrid:20190317T110000
DTEND;TZID=Europe/Madrid:20190317T150000
DTSTAMP:20260421T142411
CREATED:20181228T135530Z
LAST-MODIFIED:20181228T135530Z
UID:5333-1552820400-1552834800@fundaland.es
SUMMARY:ACTIVIDADES ABIERTAS
DESCRIPTION:Camas elásticas\, arco\, escalada\, diver jumper…
URL:https://fundaland.es/evento/actividades-abiertas-49/
END:VEVENT
BEGIN:VEVENT
DTSTART;TZID=Europe/Madrid:20190317T120000
DTEND;TZID=Europe/Madrid:20190317T130000
DTSTAMP:20260421T142411
CREATED:20181228T134819Z
LAST-MODIFIED:20181228T134819Z
UID:5323-1552824000-1552827600@fundaland.es
SUMMARY:LOS DOMINGOS DE TEATRO
DESCRIPTION:CUENTALLER \n“Mi Papá” Es un cuento divertido para toda la familia\, donde el papá de un niño remolonea y hace mil peripecias para no quedarse solo por la noche y no meterse en la cama. ¿Logrará este niño arropar a su papá y apagar la luz?
URL:https://fundaland.es/evento/los-domingos-de-teatro-18/
END:VEVENT
BEGIN:VEVENT
DTSTART;TZID=Europe/Madrid:20190323T113000
DTEND;TZID=Europe/Madrid:20190323T130000
DTSTAMP:20260421T142411
CREATED:20181220T164834Z
LAST-MODIFIED:20190227T083909Z
UID:5288-1553340600-1553346000@fundaland.es
SUMMARY:COCINA EN FAMILIA
DESCRIPTION:Con las clases de cocina en familia\, los más pequeños de la casa se podrán convertir en auténticos Mini Chefs\, mientras aprenden recetas sanas y divertidas.  \n¿Cuál será el menú? \nEnsalada de Fresas y canónigos\nHamburguesa de garbanzos\nTarta fina de manzana \n¡Rico y muy saludable! \n \nInscripciones: actividades@fundaland.es \nPrecio: 35€/ adulto + niño
URL:https://fundaland.es/evento/cocina-en-familia-11/
END:VEVENT
BEGIN:VEVENT
DTSTART;TZID=Europe/Madrid:20190324T110000
DTEND;TZID=Europe/Madrid:20190324T150000
DTSTAMP:20260421T142411
CREATED:20181228T135617Z
LAST-MODIFIED:20181228T135617Z
UID:5335-1553425200-1553439600@fundaland.es
SUMMARY:ACTIVIDADES ABIERTAS
DESCRIPTION:Camas elásticas\, arco\, escalada\, diver jumper…
URL:https://fundaland.es/evento/actividades-abiertas-50/
END:VEVENT
BEGIN:VEVENT
DTSTART;TZID=Europe/Madrid:20190324T120000
DTEND;TZID=Europe/Madrid:20190324T130000
DTSTAMP:20260421T142411
CREATED:20181228T135025Z
LAST-MODIFIED:20181228T135025Z
UID:5325-1553428800-1553432400@fundaland.es
SUMMARY:LOS DOMINGOS DE TEATRO
DESCRIPTION:KAMISHIBAI \n“Viaje en una botella”: ¿Hasta dónde es capaz de llegar un mensaje en una botella? ¡Lo vamos a descubrir! \n“Cuando nazca Malik”: Sahira vive en Zimbabwe y está esperando su primer hijo. Está deseando que nazca para hacer muchas cosas con él. Pero hay un problema: Sahira está enferma de sida y tiene miedo de que su hijo Malik venga al mundo con la enfermedad. \n 
URL:https://fundaland.es/evento/los-domingos-de-teatro-19/
END:VEVENT
BEGIN:VEVENT
DTSTART;TZID=Europe/Madrid:20190331T110000
DTEND;TZID=Europe/Madrid:20190331T150000
DTSTAMP:20260421T142411
CREATED:20181228T135655Z
LAST-MODIFIED:20181228T135655Z
UID:5337-1554030000-1554044400@fundaland.es
SUMMARY:ACTIVIDADES ABIERTAS
DESCRIPTION:Camas elásticas\, arco\, escalada\, diver jumper…
URL:https://fundaland.es/evento/actividades-abiertas-51/
END:VEVENT
BEGIN:VEVENT
DTSTART;TZID=Europe/Madrid:20190331T120000
DTEND;TZID=Europe/Madrid:20190331T130000
DTSTAMP:20260421T142411
CREATED:20181228T135148Z
LAST-MODIFIED:20181228T135148Z
UID:5327-1554033600-1554037200@fundaland.es
SUMMARY:LOS DOMINGOS DE TEATRO
DESCRIPTION:SÚPER GUIÑOL \n“Papá\, ¿yo también puedo llorar?” Juan no puede llorar\, cuando se enfada mucho o está triste las lágrimas se le quedan dentro y entonces le cuesta mucho respirar. Él quiere ser un chico fuerte y valiente y piensa que si llora se reirán de él\, pero su Papá está a punto de enseñarle una lección muy importante.
URL:https://fundaland.es/evento/los-domingos-de-teatro-20/
END:VEVENT
BEGIN:VEVENT
DTSTART;VALUE=DATE:20190401
DTEND;VALUE=DATE:20190402
DTSTAMP:20260421T142411
CREATED:20190313T171857Z
LAST-MODIFIED:20190313T172146Z
UID:5451-1554076800-1554163199@fundaland.es
SUMMARY:FINALIZA PLAZO INSCRIPCIÓN FUNDACAMP SEMANA SANTA
DESCRIPTION:
URL:https://fundaland.es/evento/finaliza-plazo-inscripcion-fundacamp-semana-santa/
END:VEVENT
BEGIN:VEVENT
DTSTART;TZID=Europe/Madrid:20190406T113000
DTEND;TZID=Europe/Madrid:20190406T133000
DTSTAMP:20260421T142411
CREATED:20190320T172324Z
LAST-MODIFIED:20190320T172324Z
UID:5458-1554550200-1554557400@fundaland.es
SUMMARY:COCINA EN FAMILIA
DESCRIPTION:¡Taller de cocina sana y saludable\, para que los niños aprendan a comer\, disfrutando de la cocina!
URL:https://fundaland.es/evento/cocina-en-familia-12/
END:VEVENT
BEGIN:VEVENT
DTSTART;TZID=Europe/Madrid:20190407T110000
DTEND;TZID=Europe/Madrid:20190407T150000
DTSTAMP:20260421T142411
CREATED:20190313T124135Z
LAST-MODIFIED:20190313T124135Z
UID:5388-1554634800-1554649200@fundaland.es
SUMMARY:ACTIVIDADES ABIERTAS
DESCRIPTION:Camas elásticas\, arco\, escalada\, diver jumper…
URL:https://fundaland.es/evento/actividades-abiertas-52/
END:VEVENT
BEGIN:VEVENT
DTSTART;TZID=Europe/Madrid:20190407T120000
DTEND;TZID=Europe/Madrid:20190407T130000
DTSTAMP:20260421T142411
CREATED:20190313T124040Z
LAST-MODIFIED:20190313T124040Z
UID:5386-1554638400-1554642000@fundaland.es
SUMMARY:LOS DOMINGOS DE TEATRO
DESCRIPTION:Musicando \n“Cuentos Musicalizados” Cuentos desde los tradicionales a los de Kalandraka y otras muchas sorpresas. \n 
URL:https://fundaland.es/evento/los-domingos-de-teatro-21/
END:VEVENT
BEGIN:VEVENT
DTSTART;TZID=Europe/Madrid:20190412T090000
DTEND;TZID=Europe/Madrid:20190412T170000
DTSTAMP:20260421T142411
CREATED:20190313T125046Z
LAST-MODIFIED:20190313T125046Z
UID:5398-1555059600-1555088400@fundaland.es
SUMMARY:FUNDACAMP SEMANA SANTA
DESCRIPTION:El campamento deportivo\, solidario y en inglés de la Fundación A LA PAR. Un campamento urbano inclusivo en colaboración con el Club de Pádel y Tenis de Fuencarral\, dirigido a niños entre 3 y 15 años con múltiples alternativas de horarios y contenidos adaptados a las edades. \nMás información e inscripciones: www.alapar.org/fundacamp
URL:https://fundaland.es/evento/fundacamp-semana-santa-6/
END:VEVENT
BEGIN:VEVENT
DTSTART;TZID=Europe/Madrid:20190413T113000
DTEND;TZID=Europe/Madrid:20190413T130000
DTSTAMP:20260421T142411
CREATED:20190320T172554Z
LAST-MODIFIED:20190320T172554Z
UID:5460-1555155000-1555160400@fundaland.es
SUMMARY:EASTER EGG HUNT
DESCRIPTION:Un divertido taller en el que pintaremos huevos de Pascua y saldremos a buscar los huevos de chocolate que ha dejado escondidos el conejo de Pascua\, por el parque. ¡Un plan en familia que no te puedes perder! \n 
URL:https://fundaland.es/evento/easter-egg-hunt/
END:VEVENT
BEGIN:VEVENT
DTSTART;TZID=Europe/Madrid:20190414T110000
DTEND;TZID=Europe/Madrid:20190414T150000
DTSTAMP:20260421T142411
CREATED:20190313T124412Z
LAST-MODIFIED:20190313T124412Z
UID:5392-1555239600-1555254000@fundaland.es
SUMMARY:ACTIVIDADES ABIERTAS
DESCRIPTION:Camas elásticas\, arco\, escalada\, diver jumper…
URL:https://fundaland.es/evento/actividades-abiertas-53/
END:VEVENT
BEGIN:VEVENT
DTSTART;TZID=Europe/Madrid:20190414T123000
DTEND;TZID=Europe/Madrid:20190414T130000
DTSTAMP:20260421T142411
CREATED:20190313T124324Z
LAST-MODIFIED:20190313T124324Z
UID:5390-1555245000-1555246800@fundaland.es
SUMMARY:LOS DOMINGOS DE TEATRO
DESCRIPTION:Súper Guiñol \n“La sonrisa de la abuela”  Gertrudis es una abuelita muy muy mayor\, siempre tiene una sonrisa en la boca y una palabra bonita que decir. Sus nietos últimamente están más pendientes del móvil que de ella\, pero ella no se cansa de contarles sus maravillosas historias. \n 
URL:https://fundaland.es/evento/los-domingos-de-teatro-22/
END:VEVENT
BEGIN:VEVENT
DTSTART;TZID=Europe/Madrid:20190415T090000
DTEND;TZID=Europe/Madrid:20190417T170000
DTSTAMP:20260421T142411
CREATED:20190313T125223Z
LAST-MODIFIED:20190313T125831Z
UID:5400-1555318800-1555520400@fundaland.es
SUMMARY:FUNDACAMP SEMANA SANTA
DESCRIPTION:El campamento deportivo\, solidario y en inglés de la Fundación A LA PAR. Un campamento urbano inclusivo en colaboración con el Club de Pádel y Tenis de Fuencarral\, dirigido a niños entre 3 y 15 años con múltiples alternativas de horarios y contenidos adaptados a las edades. \nMás información e inscripciones: www.alapar.org/fundacamp
URL:https://fundaland.es/evento/fundacamp-semana-santa-7/
END:VEVENT
BEGIN:VEVENT
DTSTART;VALUE=DATE:20190418
DTEND;VALUE=DATE:20190422
DTSTAMP:20260421T142411
CREATED:20190313T125511Z
LAST-MODIFIED:20190313T125923Z
UID:5404-1555545600-1555891199@fundaland.es
SUMMARY:CERRADO VACACIONES SEMANA SANTA
DESCRIPTION:¡Lo sentimos! \n¡El fin de semana permaneceremos cerrados por descanso vacacional!
URL:https://fundaland.es/evento/cerrado-vacaciones-semana-santa/
END:VEVENT
BEGIN:VEVENT
DTSTART;TZID=Europe/Madrid:20190422T090000
DTEND;TZID=Europe/Madrid:20190422T170000
DTSTAMP:20260421T142411
CREATED:20190313T125314Z
LAST-MODIFIED:20190313T125314Z
UID:5402-1555923600-1555952400@fundaland.es
SUMMARY:FUNDACAMP SEMANA SANTA
DESCRIPTION:El campamento deportivo\, solidario y en inglés de la Fundación A LA PAR. Un campamento urbano inclusivo en colaboración con el Club de Pádel y Tenis de Fuencarral\, dirigido a niños entre 3 y 15 años con múltiples alternativas de horarios y contenidos adaptados a las edades. \nMás información e inscripciones: www.alapar.org/fundacamp
URL:https://fundaland.es/evento/fundacamp-semana-santa-8/
END:VEVENT
BEGIN:VEVENT
DTSTART;TZID=Europe/Madrid:20190427T113000
DTEND;TZID=Europe/Madrid:20190427T123000
DTSTAMP:20260421T142411
CREATED:20190320T173415Z
LAST-MODIFIED:20190320T173415Z
UID:5462-1556364600-1556368200@fundaland.es
SUMMARY:TALLER DE MINDFULNESS
DESCRIPTION:¿Sabías que la atención se entrena? En este taller\, a través de divertidos ejercicios y juegos\, aprenderemos a utilizar la atención para reconocer y manejar nuestras emociones. Tu hijo se irá familiarizando con esta técnica y terminará con una maravillosa relajación. \nEdad recomendada: a partir de los 5 años.
URL:https://fundaland.es/evento/taller-de-mindfulness/
END:VEVENT
BEGIN:VEVENT
DTSTART;TZID=Europe/Madrid:20190428T110000
DTEND;TZID=Europe/Madrid:20190428T150000
DTSTAMP:20260421T142411
CREATED:20190313T124831Z
LAST-MODIFIED:20190313T124831Z
UID:5396-1556449200-1556463600@fundaland.es
SUMMARY:ACTIVIDADES ABIERTAS
DESCRIPTION:Camas elásticas\, arco\, escalada\, diver jumper…
URL:https://fundaland.es/evento/actividades-abiertas-54/
END:VEVENT
END:VCALENDAR