BEGIN:VCALENDAR
VERSION:2.0
PRODID:-//Fundaland - ECPv6.15.12//NONSGML v1.0//EN
CALSCALE:GREGORIAN
METHOD:PUBLISH
X-ORIGINAL-URL:https://fundaland.es
X-WR-CALDESC:Eventos para Fundaland
REFRESH-INTERVAL;VALUE=DURATION:PT1H
X-Robots-Tag:noindex
X-PUBLISHED-TTL:PT1H
BEGIN:VTIMEZONE
TZID:Europe/Madrid
BEGIN:DAYLIGHT
TZOFFSETFROM:+0100
TZOFFSETTO:+0200
TZNAME:CEST
DTSTART:20180325T010000
END:DAYLIGHT
BEGIN:STANDARD
TZOFFSETFROM:+0200
TZOFFSETTO:+0100
TZNAME:CET
DTSTART:20181028T010000
END:STANDARD
BEGIN:DAYLIGHT
TZOFFSETFROM:+0100
TZOFFSETTO:+0200
TZNAME:CEST
DTSTART:20190331T010000
END:DAYLIGHT
BEGIN:STANDARD
TZOFFSETFROM:+0200
TZOFFSETTO:+0100
TZNAME:CET
DTSTART:20191027T010000
END:STANDARD
BEGIN:DAYLIGHT
TZOFFSETFROM:+0100
TZOFFSETTO:+0200
TZNAME:CEST
DTSTART:20200329T010000
END:DAYLIGHT
BEGIN:STANDARD
TZOFFSETFROM:+0200
TZOFFSETTO:+0100
TZNAME:CET
DTSTART:20201025T010000
END:STANDARD
END:VTIMEZONE
BEGIN:VEVENT
DTSTART;TZID=Europe/Madrid:20190428T110000
DTEND;TZID=Europe/Madrid:20190428T150000
DTSTAMP:20260426T014340
CREATED:20190313T124831Z
LAST-MODIFIED:20190313T124831Z
UID:5396-1556449200-1556463600@fundaland.es
SUMMARY:ACTIVIDADES ABIERTAS
DESCRIPTION:Camas elásticas\, arco\, escalada\, diver jumper…
URL:https://fundaland.es/evento/actividades-abiertas-54/
END:VEVENT
BEGIN:VEVENT
DTSTART;TZID=Europe/Madrid:20190428T120000
DTEND;TZID=Europe/Madrid:20190428T130000
DTSTAMP:20260426T014340
CREATED:20190313T124727Z
LAST-MODIFIED:20190313T124727Z
UID:5394-1556452800-1556456400@fundaland.es
SUMMARY:LOS DOMINGOS DE TEATRO
DESCRIPTION:Kamishibai \n“La zanahoria gigante” Con este cuento descubrirás todas las cosas que se pueden hacer trabajando en equipo \n“¿Quién es el rey?”  ¿Adivináis quién es el rey de la selva? vamos a averiguarlo juntos…
URL:https://fundaland.es/evento/los-domingos-de-teatro-23/
END:VEVENT
END:VCALENDAR