BEGIN:VCALENDAR
VERSION:2.0
PRODID:-//Fundaland - ECPv6.15.12//NONSGML v1.0//EN
CALSCALE:GREGORIAN
METHOD:PUBLISH
X-WR-CALNAME:Fundaland
X-ORIGINAL-URL:https://fundaland.es
X-WR-CALDESC:Eventos para Fundaland
REFRESH-INTERVAL;VALUE=DURATION:PT1H
X-Robots-Tag:noindex
X-PUBLISHED-TTL:PT1H
BEGIN:VTIMEZONE
TZID:Europe/Madrid
BEGIN:DAYLIGHT
TZOFFSETFROM:+0100
TZOFFSETTO:+0200
TZNAME:CEST
DTSTART:20180325T010000
END:DAYLIGHT
BEGIN:STANDARD
TZOFFSETFROM:+0200
TZOFFSETTO:+0100
TZNAME:CET
DTSTART:20181028T010000
END:STANDARD
BEGIN:DAYLIGHT
TZOFFSETFROM:+0100
TZOFFSETTO:+0200
TZNAME:CEST
DTSTART:20190331T010000
END:DAYLIGHT
BEGIN:STANDARD
TZOFFSETFROM:+0200
TZOFFSETTO:+0100
TZNAME:CET
DTSTART:20191027T010000
END:STANDARD
BEGIN:DAYLIGHT
TZOFFSETFROM:+0100
TZOFFSETTO:+0200
TZNAME:CEST
DTSTART:20200329T010000
END:DAYLIGHT
BEGIN:STANDARD
TZOFFSETFROM:+0200
TZOFFSETTO:+0100
TZNAME:CET
DTSTART:20201025T010000
END:STANDARD
END:VTIMEZONE
BEGIN:VEVENT
DTSTART;TZID=Europe/Madrid:20190316T120000
DTEND;TZID=Europe/Madrid:20190316T130000
DTSTAMP:20260422T072307
CREATED:20190227T084400Z
LAST-MODIFIED:20190227T084400Z
UID:5383-1552737600-1552741200@fundaland.es
SUMMARY:YOGA EN FAMILIA
DESCRIPTION:Una actividad dirigida a adultos junto con niños\, para afianzar los vínculos familiares\, compartir un espacio de diversión\, desarrollar el talento y la calma interior. ¡Los beneficios son muchos! \nA partir de 4 años.
URL:https://fundaland.es/evento/yoga-en-familia-2/
END:VEVENT
END:VCALENDAR