BEGIN:VCALENDAR
VERSION:2.0
PRODID:-//Fundaland - ECPv6.15.12//NONSGML v1.0//EN
CALSCALE:GREGORIAN
METHOD:PUBLISH
X-WR-CALNAME:Fundaland
X-ORIGINAL-URL:https://fundaland.es
X-WR-CALDESC:Eventos para Fundaland
REFRESH-INTERVAL;VALUE=DURATION:PT1H
X-Robots-Tag:noindex
X-PUBLISHED-TTL:PT1H
BEGIN:VTIMEZONE
TZID:Europe/Madrid
BEGIN:DAYLIGHT
TZOFFSETFROM:+0100
TZOFFSETTO:+0200
TZNAME:CEST
DTSTART:20180325T010000
END:DAYLIGHT
BEGIN:STANDARD
TZOFFSETFROM:+0200
TZOFFSETTO:+0100
TZNAME:CET
DTSTART:20181028T010000
END:STANDARD
BEGIN:DAYLIGHT
TZOFFSETFROM:+0100
TZOFFSETTO:+0200
TZNAME:CEST
DTSTART:20190331T010000
END:DAYLIGHT
BEGIN:STANDARD
TZOFFSETFROM:+0200
TZOFFSETTO:+0100
TZNAME:CET
DTSTART:20191027T010000
END:STANDARD
BEGIN:DAYLIGHT
TZOFFSETFROM:+0100
TZOFFSETTO:+0200
TZNAME:CEST
DTSTART:20200329T010000
END:DAYLIGHT
BEGIN:STANDARD
TZOFFSETFROM:+0200
TZOFFSETTO:+0100
TZNAME:CET
DTSTART:20201025T010000
END:STANDARD
END:VTIMEZONE
BEGIN:VEVENT
DTSTART;TZID=Europe/Madrid:20190210T110000
DTEND;TZID=Europe/Madrid:20190210T150000
DTSTAMP:20260421T012323
CREATED:20181228T124058Z
LAST-MODIFIED:20181228T124058Z
UID:5303-1549796400-1549810800@fundaland.es
SUMMARY:ACTIVIDADES ABIERTAS
DESCRIPTION:Camas elásticas\, arco\, escalada\, diver jumper…
URL:https://fundaland.es/evento/actividades-abiertas-46/
END:VEVENT
BEGIN:VEVENT
DTSTART;TZID=Europe/Madrid:20190210T120000
DTEND;TZID=Europe/Madrid:20190210T130000
DTSTAMP:20260421T012323
CREATED:20181228T132731Z
LAST-MODIFIED:20181228T132731Z
UID:5313-1549800000-1549803600@fundaland.es
SUMMARY:LOS DOMINGOS DE TEATRO
DESCRIPTION:CUENTALLER \n“Las gafas de ver” Es un cuento que nos enseña valores\, para mirar más allá a las personas que nos rodean. Descubriremos a un niño y una niña muy diferentes. \n 
URL:https://fundaland.es/evento/los-domingos-de-teatro-13/
END:VEVENT
END:VCALENDAR