BEGIN:VCALENDAR
VERSION:2.0
PRODID:-//Fundaland - ECPv6.15.12//NONSGML v1.0//EN
CALSCALE:GREGORIAN
METHOD:PUBLISH
X-WR-CALNAME:Fundaland
X-ORIGINAL-URL:https://fundaland.es
X-WR-CALDESC:Eventos para Fundaland
REFRESH-INTERVAL;VALUE=DURATION:PT1H
X-Robots-Tag:noindex
X-PUBLISHED-TTL:PT1H
BEGIN:VTIMEZONE
TZID:Europe/Madrid
BEGIN:DAYLIGHT
TZOFFSETFROM:+0100
TZOFFSETTO:+0200
TZNAME:CEST
DTSTART:20180325T010000
END:DAYLIGHT
BEGIN:STANDARD
TZOFFSETFROM:+0200
TZOFFSETTO:+0100
TZNAME:CET
DTSTART:20181028T010000
END:STANDARD
BEGIN:DAYLIGHT
TZOFFSETFROM:+0100
TZOFFSETTO:+0200
TZNAME:CEST
DTSTART:20190331T010000
END:DAYLIGHT
BEGIN:STANDARD
TZOFFSETFROM:+0200
TZOFFSETTO:+0100
TZNAME:CET
DTSTART:20191027T010000
END:STANDARD
BEGIN:DAYLIGHT
TZOFFSETFROM:+0100
TZOFFSETTO:+0200
TZNAME:CEST
DTSTART:20200329T010000
END:DAYLIGHT
BEGIN:STANDARD
TZOFFSETFROM:+0200
TZOFFSETTO:+0100
TZNAME:CET
DTSTART:20201025T010000
END:STANDARD
END:VTIMEZONE
BEGIN:VEVENT
DTSTART;TZID=Europe/Madrid:20190120T110000
DTEND;TZID=Europe/Madrid:20190120T150000
DTSTAMP:20260420T130357
CREATED:20181228T123553Z
LAST-MODIFIED:20181228T123553Z
UID:5293-1547982000-1547996400@fundaland.es
SUMMARY:ACTIVIDADES ABIERTAS
DESCRIPTION:Camas elásticas\, arco\, escalada\, diver jumper…
URL:https://fundaland.es/evento/actividades-abiertas-41/
END:VEVENT
BEGIN:VEVENT
DTSTART;TZID=Europe/Madrid:20190120T120000
DTEND;TZID=Europe/Madrid:20190120T130000
DTSTAMP:20260420T130357
CREATED:20181228T132314Z
LAST-MODIFIED:20181228T132314Z
UID:5309-1547985600-1547989200@fundaland.es
SUMMARY:LOS DOMINGOS DE TEATRO
DESCRIPTION:CUENTALLER \n“El pequeño conejo blanco” Con un singular personaje\, este divertido cuento\, te enseña a ser valiente y no tener miedo a pedir ayuda. \n 
URL:https://fundaland.es/evento/los-domingos-de-teatro-11/
END:VEVENT
END:VCALENDAR