BEGIN:VCALENDAR
VERSION:2.0
PRODID:-//Fundaland - ECPv6.15.12//NONSGML v1.0//EN
CALSCALE:GREGORIAN
METHOD:PUBLISH
X-WR-CALNAME:Fundaland
X-ORIGINAL-URL:https://fundaland.es
X-WR-CALDESC:Eventos para Fundaland
REFRESH-INTERVAL;VALUE=DURATION:PT1H
X-Robots-Tag:noindex
X-PUBLISHED-TTL:PT1H
BEGIN:VTIMEZONE
TZID:Europe/Madrid
BEGIN:DAYLIGHT
TZOFFSETFROM:+0100
TZOFFSETTO:+0200
TZNAME:CEST
DTSTART:20180325T010000
END:DAYLIGHT
BEGIN:STANDARD
TZOFFSETFROM:+0200
TZOFFSETTO:+0100
TZNAME:CET
DTSTART:20181028T010000
END:STANDARD
BEGIN:DAYLIGHT
TZOFFSETFROM:+0100
TZOFFSETTO:+0200
TZNAME:CEST
DTSTART:20190331T010000
END:DAYLIGHT
BEGIN:STANDARD
TZOFFSETFROM:+0200
TZOFFSETTO:+0100
TZNAME:CET
DTSTART:20191027T010000
END:STANDARD
BEGIN:DAYLIGHT
TZOFFSETFROM:+0100
TZOFFSETTO:+0200
TZNAME:CEST
DTSTART:20200329T010000
END:DAYLIGHT
BEGIN:STANDARD
TZOFFSETFROM:+0200
TZOFFSETTO:+0100
TZNAME:CET
DTSTART:20201025T010000
END:STANDARD
END:VTIMEZONE
BEGIN:VEVENT
DTSTART;TZID=Europe/Madrid:20190119T113000
DTEND;TZID=Europe/Madrid:20190119T123000
DTSTAMP:20260420T112339
CREATED:20190110T111145Z
LAST-MODIFIED:20190110T111145Z
UID:5339-1547897400-1547901000@fundaland.es
SUMMARY:TALLER DE MINDFULNESS PARA NIÑOS
DESCRIPTION:¿Sabías que la atención se entrena? \nEn este taller\, a través de divertidos ejercicios y juegos\, aprenderemos a utilizar la atención para reconocer y manejar nuestras emociones. Tu hijo se irá familiarizando con esta técnica y terminará con una magnifica relajación… Edad recomendada a partir de los 5 años. \n 
URL:https://fundaland.es/evento/taller-de-mindfulness-para-ninos/
END:VEVENT
END:VCALENDAR