BEGIN:VCALENDAR
VERSION:2.0
PRODID:-//Fundaland - ECPv6.15.12//NONSGML v1.0//EN
CALSCALE:GREGORIAN
METHOD:PUBLISH
X-ORIGINAL-URL:https://fundaland.es
X-WR-CALDESC:Eventos para Fundaland
REFRESH-INTERVAL;VALUE=DURATION:PT1H
X-Robots-Tag:noindex
X-PUBLISHED-TTL:PT1H
BEGIN:VTIMEZONE
TZID:Europe/Madrid
BEGIN:DAYLIGHT
TZOFFSETFROM:+0100
TZOFFSETTO:+0200
TZNAME:CEST
DTSTART:20170326T010000
END:DAYLIGHT
BEGIN:STANDARD
TZOFFSETFROM:+0200
TZOFFSETTO:+0100
TZNAME:CET
DTSTART:20171029T010000
END:STANDARD
BEGIN:DAYLIGHT
TZOFFSETFROM:+0100
TZOFFSETTO:+0200
TZNAME:CEST
DTSTART:20180325T010000
END:DAYLIGHT
BEGIN:STANDARD
TZOFFSETFROM:+0200
TZOFFSETTO:+0100
TZNAME:CET
DTSTART:20181028T010000
END:STANDARD
BEGIN:DAYLIGHT
TZOFFSETFROM:+0100
TZOFFSETTO:+0200
TZNAME:CEST
DTSTART:20190331T010000
END:DAYLIGHT
BEGIN:STANDARD
TZOFFSETFROM:+0200
TZOFFSETTO:+0100
TZNAME:CET
DTSTART:20191027T010000
END:STANDARD
END:VTIMEZONE
BEGIN:VEVENT
DTSTART;TZID=Europe/Madrid:20180313T180000
DTEND;TZID=Europe/Madrid:20180313T200000
DTSTAMP:20260420T060636
CREATED:20180214T095839Z
LAST-MODIFIED:20180214T095839Z
UID:4839-1520964000-1520971200@fundaland.es
SUMMARY:TALLER PARA PADRES
DESCRIPTION:«MI HIJO ES BUENO/ MI HIJO ES MALO» \n¡Qué bueno eres!\, ¡eres un terremoto!\, ¡mira que eres responsable!\, todo lo que cae en tus manos lo rompes\, eres un egoísta\, que tímido es mi hijo… Las etiquetas determinan enormemente la manera en que nuestros hijos se comportan y cómo nosotros reaccionamos ante sus conductas. \n¿QUÉ APRENDERÁS? \n\n\n\nDescubrirás que nos lleva a encasillar a los niños y ponerles “Etiquetas”\nTe harás consciente de como influyen las etiquetas en nuestro comportamiento y en el suyo\nAprenderás cómo liberarles de ellas.
URL:https://fundaland.es/evento/taller-para-padres-3/
END:VEVENT
END:VCALENDAR