BEGIN:VCALENDAR
VERSION:2.0
PRODID:-//Fundaland - ECPv6.15.12//NONSGML v1.0//EN
CALSCALE:GREGORIAN
METHOD:PUBLISH
X-WR-CALNAME:Fundaland
X-ORIGINAL-URL:https://fundaland.es
X-WR-CALDESC:Eventos para Fundaland
REFRESH-INTERVAL;VALUE=DURATION:PT1H
X-Robots-Tag:noindex
X-PUBLISHED-TTL:PT1H
BEGIN:VTIMEZONE
TZID:Europe/Madrid
BEGIN:DAYLIGHT
TZOFFSETFROM:+0100
TZOFFSETTO:+0200
TZNAME:CEST
DTSTART:20170326T010000
END:DAYLIGHT
BEGIN:STANDARD
TZOFFSETFROM:+0200
TZOFFSETTO:+0100
TZNAME:CET
DTSTART:20171029T010000
END:STANDARD
BEGIN:DAYLIGHT
TZOFFSETFROM:+0100
TZOFFSETTO:+0200
TZNAME:CEST
DTSTART:20180325T010000
END:DAYLIGHT
BEGIN:STANDARD
TZOFFSETFROM:+0200
TZOFFSETTO:+0100
TZNAME:CET
DTSTART:20181028T010000
END:STANDARD
BEGIN:DAYLIGHT
TZOFFSETFROM:+0100
TZOFFSETTO:+0200
TZNAME:CEST
DTSTART:20190331T010000
END:DAYLIGHT
BEGIN:STANDARD
TZOFFSETFROM:+0200
TZOFFSETTO:+0100
TZNAME:CET
DTSTART:20191027T010000
END:STANDARD
END:VTIMEZONE
BEGIN:VEVENT
DTSTART;TZID=Europe/Madrid:20180304T110000
DTEND;TZID=Europe/Madrid:20180304T150000
DTSTAMP:20260420T214739
CREATED:20180201T163512Z
LAST-MODIFIED:20180201T163512Z
UID:4809-1520161200-1520175600@fundaland.es
SUMMARY:ACTIVIDADES ABIERTAS
DESCRIPTION:Camas elásticas\, arco\, escalada\, diver jumper…
URL:https://fundaland.es/evento/actividades-abiertas-13/
END:VEVENT
BEGIN:VEVENT
DTSTART;TZID=Europe/Madrid:20180304T120000
DTEND;TZID=Europe/Madrid:20180304T130000
DTSTAMP:20260420T214739
CREATED:20180201T155534Z
LAST-MODIFIED:20180201T161838Z
UID:4800-1520164800-1520168400@fundaland.es
SUMMARY:DOMINGOS DE TEATRO
DESCRIPTION:SÚPER GUIÑOL \n«De cuento en cuento y tiro porque me toca»  \nUn cuento que se quedó a medias… ¿Serán capaces los niños de ayudar a Hada a terminarlo?
URL:https://fundaland.es/evento/domingos-de-teatro-13/
END:VEVENT
END:VCALENDAR