BEGIN:VCALENDAR
VERSION:2.0
PRODID:-//Fundaland - ECPv6.15.12//NONSGML v1.0//EN
CALSCALE:GREGORIAN
METHOD:PUBLISH
X-ORIGINAL-URL:https://fundaland.es
X-WR-CALDESC:Eventos para Fundaland
REFRESH-INTERVAL;VALUE=DURATION:PT1H
X-Robots-Tag:noindex
X-PUBLISHED-TTL:PT1H
BEGIN:VTIMEZONE
TZID:Europe/Madrid
BEGIN:DAYLIGHT
TZOFFSETFROM:+0100
TZOFFSETTO:+0200
TZNAME:CEST
DTSTART:20170326T010000
END:DAYLIGHT
BEGIN:STANDARD
TZOFFSETFROM:+0200
TZOFFSETTO:+0100
TZNAME:CET
DTSTART:20171029T010000
END:STANDARD
BEGIN:DAYLIGHT
TZOFFSETFROM:+0100
TZOFFSETTO:+0200
TZNAME:CEST
DTSTART:20180325T010000
END:DAYLIGHT
BEGIN:STANDARD
TZOFFSETFROM:+0200
TZOFFSETTO:+0100
TZNAME:CET
DTSTART:20181028T010000
END:STANDARD
BEGIN:DAYLIGHT
TZOFFSETFROM:+0100
TZOFFSETTO:+0200
TZNAME:CEST
DTSTART:20190331T010000
END:DAYLIGHT
BEGIN:STANDARD
TZOFFSETFROM:+0200
TZOFFSETTO:+0100
TZNAME:CET
DTSTART:20191027T010000
END:STANDARD
END:VTIMEZONE
BEGIN:VEVENT
DTSTART;TZID=Europe/Madrid:20180213T180000
DTEND;TZID=Europe/Madrid:20180213T200000
DTSTAMP:20260422T090948
CREATED:20180115T161015Z
LAST-MODIFIED:20180115T161015Z
UID:4755-1518544800-1518552000@fundaland.es
SUMMARY:¡TALLER PARA PADRES!
DESCRIPTION:«EDUCAR SIN CASTIGOS ES POSIBLE» \nMuchas veces castigamos a nuestros hijos porque no se nos ocurre una alternativa mejor. Te mostraremos el “lado oscuro” del castigo y te daremos un montón de alternativas para conseguir la colaboración de tus hijos enseñándoles a asumir la responsabilidad de sus actos. \n¿QUÉ APRENDERÁS? \n\n\n\nQué nos lleva a castigar\nDiferencia entre castigos y consecuencias\nAlternativas al castigo\nCómo hacer que tu hijo sea parte de la solución.\n\n\n\nMás información e inscripciones: actividades@fundaland.es
URL:https://fundaland.es/evento/taller-para-padres-2/
END:VEVENT
END:VCALENDAR