BEGIN:VCALENDAR
VERSION:2.0
PRODID:-//Fundaland - ECPv6.15.12//NONSGML v1.0//EN
CALSCALE:GREGORIAN
METHOD:PUBLISH
X-WR-CALNAME:Fundaland
X-ORIGINAL-URL:https://fundaland.es
X-WR-CALDESC:Eventos para Fundaland
REFRESH-INTERVAL;VALUE=DURATION:PT1H
X-Robots-Tag:noindex
X-PUBLISHED-TTL:PT1H
BEGIN:VTIMEZONE
TZID:Europe/Madrid
BEGIN:DAYLIGHT
TZOFFSETFROM:+0100
TZOFFSETTO:+0200
TZNAME:CEST
DTSTART:20170326T010000
END:DAYLIGHT
BEGIN:STANDARD
TZOFFSETFROM:+0200
TZOFFSETTO:+0100
TZNAME:CET
DTSTART:20171029T010000
END:STANDARD
BEGIN:DAYLIGHT
TZOFFSETFROM:+0100
TZOFFSETTO:+0200
TZNAME:CEST
DTSTART:20180325T010000
END:DAYLIGHT
BEGIN:STANDARD
TZOFFSETFROM:+0200
TZOFFSETTO:+0100
TZNAME:CET
DTSTART:20181028T010000
END:STANDARD
BEGIN:DAYLIGHT
TZOFFSETFROM:+0100
TZOFFSETTO:+0200
TZNAME:CEST
DTSTART:20190331T010000
END:DAYLIGHT
BEGIN:STANDARD
TZOFFSETFROM:+0200
TZOFFSETTO:+0100
TZNAME:CET
DTSTART:20191027T010000
END:STANDARD
END:VTIMEZONE
BEGIN:VEVENT
DTSTART;TZID=Europe/Madrid:20180211T110000
DTEND;TZID=Europe/Madrid:20180211T150000
DTSTAMP:20260422T124546
CREATED:20180112T123629Z
LAST-MODIFIED:20180112T123629Z
UID:4732-1518346800-1518361200@fundaland.es
SUMMARY:ACTIVIDADES ABIERTAS
DESCRIPTION:Camas elásticas\, arco\, escalada\, diver jumper…
URL:https://fundaland.es/evento/actividades-abiertas-10/
END:VEVENT
BEGIN:VEVENT
DTSTART;TZID=Europe/Madrid:20180211T120000
DTEND;TZID=Europe/Madrid:20180211T130000
DTSTAMP:20260422T124546
CREATED:20180112T121957Z
LAST-MODIFIED:20180112T121957Z
UID:4724-1518350400-1518354000@fundaland.es
SUMMARY:DOMINGOS DE TEATRO
DESCRIPTION:MUSICANDO \n«Invierno musical» \nUn montón de actividades musicales\, que nos recordarán al invierno: canciones\, instrumentos… ¡ven abrigadito\, sentirás frío!
URL:https://fundaland.es/evento/domingos-de-teatro-10/
END:VEVENT
END:VCALENDAR