BEGIN:VCALENDAR
VERSION:2.0
PRODID:-//Fundaland - ECPv6.15.12//NONSGML v1.0//EN
CALSCALE:GREGORIAN
METHOD:PUBLISH
X-ORIGINAL-URL:https://fundaland.es
X-WR-CALDESC:Eventos para Fundaland
REFRESH-INTERVAL;VALUE=DURATION:PT1H
X-Robots-Tag:noindex
X-PUBLISHED-TTL:PT1H
BEGIN:VTIMEZONE
TZID:Europe/Madrid
BEGIN:DAYLIGHT
TZOFFSETFROM:+0100
TZOFFSETTO:+0200
TZNAME:CEST
DTSTART:20170326T010000
END:DAYLIGHT
BEGIN:STANDARD
TZOFFSETFROM:+0200
TZOFFSETTO:+0100
TZNAME:CET
DTSTART:20171029T010000
END:STANDARD
BEGIN:DAYLIGHT
TZOFFSETFROM:+0100
TZOFFSETTO:+0200
TZNAME:CEST
DTSTART:20180325T010000
END:DAYLIGHT
BEGIN:STANDARD
TZOFFSETFROM:+0200
TZOFFSETTO:+0100
TZNAME:CET
DTSTART:20181028T010000
END:STANDARD
BEGIN:DAYLIGHT
TZOFFSETFROM:+0100
TZOFFSETTO:+0200
TZNAME:CEST
DTSTART:20190331T010000
END:DAYLIGHT
BEGIN:STANDARD
TZOFFSETFROM:+0200
TZOFFSETTO:+0100
TZNAME:CET
DTSTART:20191027T010000
END:STANDARD
END:VTIMEZONE
BEGIN:VEVENT
DTSTART;TZID=Europe/Madrid:20180127T110000
DTEND;TZID=Europe/Madrid:20180128T203000
DTSTAMP:20260423T162835
CREATED:20180109T111711Z
LAST-MODIFIED:20180109T111750Z
UID:4718-1517050800-1517171400@fundaland.es
SUMMARY:PISTA DE PATINAJE SOBRE HIELO
DESCRIPTION:¡Pista de hielo sintético\, que además de ser ecológica\, es solidaria porque contribuye con la Fundación A LA PAR! \nIncluye patines y 20 minutos de diversión para toda la familia
URL:https://fundaland.es/evento/pista-de-patinaje-sobre-hiello/
END:VEVENT
BEGIN:VEVENT
DTSTART;TZID=Europe/Madrid:20180127T113000
DTEND;TZID=Europe/Madrid:20180127T133000
DTSTAMP:20260423T162835
CREATED:20180103T114615Z
LAST-MODIFIED:20180103T114615Z
UID:4607-1517052600-1517059800@fundaland.es
SUMMARY:COCINA EN FAMILIA
DESCRIPTION:MINI- CHEFS \n¡La escuela de cocina donde aprender recetas sanas\, divertidas y pasar un buen rato en familia! \n 
URL:https://fundaland.es/evento/cocina-en-familia/
END:VEVENT
END:VCALENDAR