BEGIN:VCALENDAR
VERSION:2.0
PRODID:-//Fundaland - ECPv6.15.12//NONSGML v1.0//EN
CALSCALE:GREGORIAN
METHOD:PUBLISH
X-WR-CALNAME:Fundaland
X-ORIGINAL-URL:https://fundaland.es
X-WR-CALDESC:Eventos para Fundaland
REFRESH-INTERVAL;VALUE=DURATION:PT1H
X-Robots-Tag:noindex
X-PUBLISHED-TTL:PT1H
BEGIN:VTIMEZONE
TZID:Europe/Madrid
BEGIN:DAYLIGHT
TZOFFSETFROM:+0100
TZOFFSETTO:+0200
TZNAME:CEST
DTSTART:20170326T010000
END:DAYLIGHT
BEGIN:STANDARD
TZOFFSETFROM:+0200
TZOFFSETTO:+0100
TZNAME:CET
DTSTART:20171029T010000
END:STANDARD
BEGIN:DAYLIGHT
TZOFFSETFROM:+0100
TZOFFSETTO:+0200
TZNAME:CEST
DTSTART:20180325T010000
END:DAYLIGHT
BEGIN:STANDARD
TZOFFSETFROM:+0200
TZOFFSETTO:+0100
TZNAME:CET
DTSTART:20181028T010000
END:STANDARD
BEGIN:DAYLIGHT
TZOFFSETFROM:+0100
TZOFFSETTO:+0200
TZNAME:CEST
DTSTART:20190331T010000
END:DAYLIGHT
BEGIN:STANDARD
TZOFFSETFROM:+0200
TZOFFSETTO:+0100
TZNAME:CET
DTSTART:20191027T010000
END:STANDARD
END:VTIMEZONE
BEGIN:VEVENT
DTSTART;TZID=Europe/Madrid:20180120T110000
DTEND;TZID=Europe/Madrid:20180120T130000
DTSTAMP:20260424T043225
CREATED:20180103T112709Z
LAST-MODIFIED:20180112T125603Z
UID:4602-1516446000-1516453200@fundaland.es
SUMMARY:TALLER PARA NIÑOS
DESCRIPTION:«ÉRASE UNA VEZ MI CIUDAD» \n¿Te animas a dar rienda suelta a tus sueños y llevarte un puzzle de madera con el dibujo de tu ciudad? \n¡Taller de urbanismo para familias en colaboración con Cazapeonzas\, una marca comprometida con la sociedad! \nInscripciones: actividades@fundaland.es
URL:https://fundaland.es/evento/taller-para-ninos/
LOCATION:Fundaland\, c/Monasterio de las Huelgas 15\, Montecarmelo\, España
END:VEVENT
BEGIN:VEVENT
DTSTART;TZID=Europe/Madrid:20180120T110000
DTEND;TZID=Europe/Madrid:20180121T213000
DTSTAMP:20260424T043225
CREATED:20180109T110542Z
LAST-MODIFIED:20180109T110542Z
UID:4711-1516446000-1516570200@fundaland.es
SUMMARY:PISTA DE PATINAJE SOBRE HIELO
DESCRIPTION:¡Pista de hielo sintético\, que además de ser ecológica\, es solidaria porque contribuye con la Fundación A LA PAR! \nIncluye patines y 20 minutos de diversión para toda la familia
URL:https://fundaland.es/evento/pista-de-patinaje-sobre-hielo-5/
END:VEVENT
END:VCALENDAR