BEGIN:VCALENDAR
VERSION:2.0
PRODID:-//Fundaland - ECPv6.15.12//NONSGML v1.0//EN
CALSCALE:GREGORIAN
METHOD:PUBLISH
X-ORIGINAL-URL:https://fundaland.es
X-WR-CALDESC:Eventos para Fundaland
REFRESH-INTERVAL;VALUE=DURATION:PT1H
X-Robots-Tag:noindex
X-PUBLISHED-TTL:PT1H
BEGIN:VTIMEZONE
TZID:Europe/Madrid
BEGIN:DAYLIGHT
TZOFFSETFROM:+0100
TZOFFSETTO:+0200
TZNAME:CEST
DTSTART:20170326T010000
END:DAYLIGHT
BEGIN:STANDARD
TZOFFSETFROM:+0200
TZOFFSETTO:+0100
TZNAME:CET
DTSTART:20171029T010000
END:STANDARD
BEGIN:DAYLIGHT
TZOFFSETFROM:+0100
TZOFFSETTO:+0200
TZNAME:CEST
DTSTART:20180325T010000
END:DAYLIGHT
BEGIN:STANDARD
TZOFFSETFROM:+0200
TZOFFSETTO:+0100
TZNAME:CET
DTSTART:20181028T010000
END:STANDARD
BEGIN:DAYLIGHT
TZOFFSETFROM:+0100
TZOFFSETTO:+0200
TZNAME:CEST
DTSTART:20190331T010000
END:DAYLIGHT
BEGIN:STANDARD
TZOFFSETFROM:+0200
TZOFFSETTO:+0100
TZNAME:CET
DTSTART:20191027T010000
END:STANDARD
END:VTIMEZONE
BEGIN:VEVENT
DTSTART;TZID=Europe/Madrid:20180115T160000
DTEND;TZID=Europe/Madrid:20180119T203000
DTSTAMP:20260424T111417
CREATED:20180109T105717Z
LAST-MODIFIED:20180109T110831Z
UID:4707-1516032000-1516393800@fundaland.es
SUMMARY:PISTA DE PATINAJE SOBRE HIELO
DESCRIPTION:¡Pista de hielo sintético\, que además de ser ecológica\, es solidaria porque contribuye con la Fundación A LA PAR! \nIncluye patines y 20 minutos de diversión para toda la familia
URL:https://fundaland.es/evento/pista-de-patinaje-sobre-hielo-solidaria/
END:VEVENT
BEGIN:VEVENT
DTSTART;TZID=Europe/Madrid:20180116T180000
DTEND;TZID=Europe/Madrid:20180116T200000
DTSTAMP:20260424T111417
CREATED:20180103T111617Z
LAST-MODIFIED:20180108T175813Z
UID:4597-1516125600-1516132800@fundaland.es
SUMMARY:TALLER PARA PADRES
DESCRIPTION:PADRES AL BORDE DE UN ATAQUE DE NERVIOS:\n¿Sientes que estás todo el día regañando y dando órdenes? ¿En ocasiones te sientes absolutamente sobrepasado en tu labor como padre? \n¿QUÉ APRENDERÁS? \n‣ Cómo funciona tu cerebro y el del niño\n‣ Qué hace que los niños no quieran colaborar\n‣ Herramientas para conseguir su cooperación\, sin necesidad de regañar\, gritar o recordar constantemente. \nInscripciones: actividades@fundaland.es \n \n 
URL:https://fundaland.es/evento/taller-para-padres/
LOCATION:Fundaland\, c/Monasterio de las Huelgas 15\, Montecarmelo\, España
END:VEVENT
END:VCALENDAR